BEGIN:VCALENDAR
VERSION:2.0
PRODID:-//Ellen Bravo - ECPv6.15.20//NONSGML v1.0//EN
CALSCALE:GREGORIAN
METHOD:PUBLISH
X-ORIGINAL-URL:https://ellenbravo.com
X-WR-CALDESC:Events for Ellen Bravo
REFRESH-INTERVAL;VALUE=DURATION:PT1H
X-Robots-Tag:noindex
X-PUBLISHED-TTL:PT1H
BEGIN:VTIMEZONE
TZID:America/New_York
BEGIN:DAYLIGHT
TZOFFSETFROM:-0500
TZOFFSETTO:-0400
TZNAME:EDT
DTSTART:20210314T070000
END:DAYLIGHT
BEGIN:STANDARD
TZOFFSETFROM:-0400
TZOFFSETTO:-0500
TZNAME:EST
DTSTART:20211107T060000
END:STANDARD
BEGIN:DAYLIGHT
TZOFFSETFROM:-0500
TZOFFSETTO:-0400
TZNAME:EDT
DTSTART:20220313T070000
END:DAYLIGHT
BEGIN:STANDARD
TZOFFSETFROM:-0400
TZOFFSETTO:-0500
TZNAME:EST
DTSTART:20221106T060000
END:STANDARD
BEGIN:DAYLIGHT
TZOFFSETFROM:-0500
TZOFFSETTO:-0400
TZNAME:EDT
DTSTART:20230312T070000
END:DAYLIGHT
BEGIN:STANDARD
TZOFFSETFROM:-0400
TZOFFSETTO:-0500
TZNAME:EST
DTSTART:20231105T060000
END:STANDARD
BEGIN:DAYLIGHT
TZOFFSETFROM:-0500
TZOFFSETTO:-0400
TZNAME:EDT
DTSTART:20240310T070000
END:DAYLIGHT
BEGIN:STANDARD
TZOFFSETFROM:-0400
TZOFFSETTO:-0500
TZNAME:EST
DTSTART:20241103T060000
END:STANDARD
BEGIN:DAYLIGHT
TZOFFSETFROM:-0500
TZOFFSETTO:-0400
TZNAME:EDT
DTSTART:20250309T070000
END:DAYLIGHT
BEGIN:STANDARD
TZOFFSETFROM:-0400
TZOFFSETTO:-0500
TZNAME:EST
DTSTART:20251102T060000
END:STANDARD
BEGIN:DAYLIGHT
TZOFFSETFROM:-0500
TZOFFSETTO:-0400
TZNAME:EDT
DTSTART:20260308T070000
END:DAYLIGHT
BEGIN:STANDARD
TZOFFSETFROM:-0400
TZOFFSETTO:-0500
TZNAME:EST
DTSTART:20261101T060000
END:STANDARD
END:VTIMEZONE
BEGIN:VTIMEZONE
TZID:America/Los_Angeles
BEGIN:DAYLIGHT
TZOFFSETFROM:-0800
TZOFFSETTO:-0700
TZNAME:PDT
DTSTART:20210314T100000
END:DAYLIGHT
BEGIN:STANDARD
TZOFFSETFROM:-0700
TZOFFSETTO:-0800
TZNAME:PST
DTSTART:20211107T090000
END:STANDARD
BEGIN:DAYLIGHT
TZOFFSETFROM:-0800
TZOFFSETTO:-0700
TZNAME:PDT
DTSTART:20220313T100000
END:DAYLIGHT
BEGIN:STANDARD
TZOFFSETFROM:-0700
TZOFFSETTO:-0800
TZNAME:PST
DTSTART:20221106T090000
END:STANDARD
BEGIN:DAYLIGHT
TZOFFSETFROM:-0800
TZOFFSETTO:-0700
TZNAME:PDT
DTSTART:20230312T100000
END:DAYLIGHT
BEGIN:STANDARD
TZOFFSETFROM:-0700
TZOFFSETTO:-0800
TZNAME:PST
DTSTART:20231105T090000
END:STANDARD
END:VTIMEZONE
BEGIN:VTIMEZONE
TZID:UTC
BEGIN:STANDARD
TZOFFSETFROM:+0000
TZOFFSETTO:+0000
TZNAME:UTC
DTSTART:20210101T000000
END:STANDARD
END:VTIMEZONE
BEGIN:VEVENT
DTSTART;TZID=America/New_York:20251009T170000
DTEND;TZID=America/New_York:20251009T200000
DTSTAMP:20260423T114854
CREATED:20250927T200009Z
LAST-MODIFIED:20250927T201007Z
UID:848-1760029200-1760040000@ellenbravo.com
SUMMARY:A Special Evening with Artist and Social Activist Gary Tyler (RSVP Required)
DESCRIPTION:A Special Evening with Artist and Social Activist Gary Tyler at the Ford Foundation Center for Social Justice\, 320 E. 43rd Street\, New York City. RSVP required. \nGil Scott-Heron\, UB40 and Deff Generation wrote songs about him. Amnesty International and investigative reporters documented the injustice he faced. Now\, Gary Tyler will talk with renowned Attorney George Kendall about how he not only survived\, but triumphed over the system that sent him to death row and kept him locked up for 41.5 years. Gary will pay tribute to the older incarcerated individuals who became his guardians and mentors\, and share how he learned to reject bitterness and fight for freedom. \nThe evening marks the launch of his memoir\, Stitching Freedom: A True Story of Injustice\, Defiance and Hope in Angola Prison. (One Signal Publishers)
URL:https://ellenbravo.com/event/a-special-evening-with-artist-and-social-activist-gary-tyler/
LOCATION:Center for Social Justice\, 320 E. 43rd Street\, New York\, NY\, 10017\, United States
CATEGORIES:Events
ATTACH;FMTTYPE=image/jpeg:https://ellenbravo.com/wp-content/uploads/2025/09/Gary-Tyler.jpg
END:VEVENT
BEGIN:VEVENT
DTSTART;TZID=America/New_York:20221105T134500
DTEND;TZID=America/New_York:20221105T144500
DTSTAMP:20260423T114854
CREATED:20221101T193404Z
LAST-MODIFIED:20221101T193404Z
UID:522-1667655900-1667659500@ellenbravo.com
SUMMARY:Southeast Wisconsin Festival of Books
DESCRIPTION:Join us for our panel\, “Addressing the Human Struggle.” The event is open to the public and free of charge. \n\n\n\nRoom N130\, University of Wisconsin-Milwaukee\, Waukesha campus\, 1500 N. University Drive in Waukesha.
URL:https://ellenbravo.com/event/southeast-wisconsin-festival-of-books/
LOCATION:NY
END:VEVENT
BEGIN:VEVENT
DTSTART;TZID=America/New_York:20221008T153000
DTEND;TZID=America/New_York:20221008T170000
DTSTAMP:20260423T114854
CREATED:20221004T203021Z
LAST-MODIFIED:20221006T213555Z
UID:508-1665243000-1665248400@ellenbravo.com
SUMMARY:Book Talk in Chicago October 8! RSVP needed.
DESCRIPTION:
URL:https://ellenbravo.com/event/book-talk-in-chicago-october-8-rsvp-needed/
LOCATION:NY
END:VEVENT
BEGIN:VEVENT
DTSTART;TZID=America/Los_Angeles:20220614T180000
DTEND;TZID=America/Los_Angeles:20220614T190000
DTSTAMP:20260423T114854
CREATED:20220517T162812Z
LAST-MODIFIED:20220529T200614Z
UID:431-1655229600-1655233200@ellenbravo.com
SUMMARY:Virtual Book Talk with Broadway Books in Portland\, OR
DESCRIPTION:Ellen and Larry will discuss Standing Up: Tales of Struggle with Margaret Butler\, former director of Portland Jobs with Justice\, at a virtual event sponsored by Broadway Books and Family Forward Oregon. Click here to RSVP. \nPurchase a copy of the novel from Broadway Books online.
URL:https://ellenbravo.com/event/virtual-book-talk-with-broadway-books-in-portland-or/
LOCATION:NY
ATTACH;FMTTYPE=image/jpeg:https://ellenbravo.com/wp-content/uploads/2022/05/Portland-1.jpg
END:VEVENT
BEGIN:VEVENT
DTSTART;TZID=America/New_York:20220608T183000
DTEND;TZID=America/New_York:20220608T203000
DTSTAMP:20260423T114854
CREATED:20220511T005808Z
LAST-MODIFIED:20220512T151618Z
UID:394-1654713000-1654720200@ellenbravo.com
SUMMARY:Ellen Bravo and Larry Miller in Discussion with Amazon Worker Leader
DESCRIPTION:Ellen Bravo and Larry Miller discuss “Standing Up” with Natalie Monarrez\, one of the leaders of Amazon JFK8 warehouse’s successful union drive. Register at this link.
URL:https://ellenbravo.com/event/ellen-bravo-and-larry-miller-in-discussion-with-amazon-worker-leader/
LOCATION:NYC Conference Center\, 500 Lexington Avenue\, NYC\, NY\, 10017\, United States
ATTACH;FMTTYPE=image/jpeg:https://ellenbravo.com/wp-content/uploads/2022/05/ny-event-ellenbravo.jpeg
END:VEVENT
BEGIN:VEVENT
DTSTART;TZID=America/New_York:20220529T080000
DTEND;TZID=America/New_York:20220529T170000
DTSTAMP:20260423T114854
CREATED:20220529T200047Z
LAST-MODIFIED:20220529T200047Z
UID:451-1653811200-1653843600@ellenbravo.com
SUMMARY:Virtual Talk on Standing Up June 2 with Family Values @ Work
DESCRIPTION:On June 2nd at 8 pm ET\, the Family Values @ Work network will host Ellen Bravo (FV@W co-founder) and Larry Miller in conversation with Jennifer Morales about their novel\, “Standing Up: Tales of Struggle”. Please register (required) to join us.
URL:https://ellenbravo.com/event/virtual-talk-on-standing-up-june-2-with-family-values-work/
LOCATION:NY
ATTACH;FMTTYPE=image/jpeg:https://ellenbravo.com/wp-content/uploads/2022/05/FV@W-June-2-event.jpeg
END:VEVENT
BEGIN:VEVENT
DTSTART;TZID=America/New_York:20220511T180000
DTEND;TZID=America/New_York:20220511T210000
DTSTAMP:20260423T114854
CREATED:20220406T141936Z
LAST-MODIFIED:20220505T215515Z
UID:359-1652292000-1652302800@ellenbravo.com
SUMMARY:Ellen Bravo and Larry Miller in conversation with Dyana Forester
DESCRIPTION:May 11\, 2022\, 6:00 pm  \nInspired by five decades of organizing\, Standing Up spotlights those who clean bloody hospital sheets\, forge parts for sewer pipes\, arrange flights\, or process checks — while caring for kids\, holding relationships together and wrestling with multiple forms of oppression. As the characters stand up\, slow down\, form unions\, leave an abusive relationship or just stir up good trouble\, they entertain and enlighten\, encourage us to love deeply and keep fighting for justice. \nPurchase from Busboys and Poets in person or online \nBusboys and Poets \n2021 14th St NW\, Washington\, DC 20009 \nco-hosted by Metro Washington Labor Council and the DC LaborFest \n(cover art by Della Wells)
URL:https://ellenbravo.com/event/ellen-bravo-and-larry-miller-in-conversation-with-dyana-forester/
LOCATION:Busboys & Poets\, 2021 14TH STREET NW\, Washington DC\, DC\, 20009\, United States
ATTACH;FMTTYPE=image/jpeg:https://ellenbravo.com/wp-content/uploads/2022/03/BB-and-Poets.jpg
ORGANIZER;CN="Metro Washington Labor Council":MAILTO:streetheat@dclabor.org
END:VEVENT
BEGIN:VEVENT
DTSTART;TZID=UTC:20220502T183000
DTEND;TZID=UTC:20220502T203000
DTSTAMP:20260423T114854
CREATED:20220406T130338Z
LAST-MODIFIED:20220412T175234Z
UID:329-1651516200-1651523400@ellenbravo.com
SUMMARY:Join us May 2 at Finnish Hall in Berkeley
DESCRIPTION:In-person in conversation with Linda Burnham\, with masks.\nCo-hosted by United for Respect and CA Work and Family Coalition. \nClick here to RSVP or go to the event on Facebook
URL:https://ellenbravo.com/event/join-us-may-2-at-finnish-hall-in-berkeley/
LOCATION:Finnish Hall\, 1790 Chestnut Street\, Berkeley\, CA\, United States
ATTACH;FMTTYPE=image/jpeg:https://ellenbravo.com/wp-content/uploads/2022/04/bravo-berkeley.jpeg
END:VEVENT
END:VCALENDAR